BEGIN:VCALENDAR
VERSION:2.0
CALSCALE:GREGORIAN
PRODID:-//MyApp//Calendar 1.0//EN
BEGIN:VEVENT
METHOD:PUBLISH
UID:65693@regionalniportaly.cz
DTSTAMP:20260421T130054Z
DTSTART;VALUE=DATE:20260626
DTEND;VALUE=DATE:20260627
SUMMARY:Hurá na prázdniny anebo tajemný svět dinosaurů
DESCRIPTION:Interaktivní odpoledne pro děti a jejich rodiče. Těšit se můžete na živého dinosaura (mrká\, hýbe se\, vydává zvuk\, animátora v kostýmu který vás seznámí se světem dinosaurů. Přichystaná je tvořivá dílna a další soutěžní aktivity o ceny.Kapacita míst je omezena.Vstupenky budou v předprodeji na SMSticketVstupné 150 Kč/osoba&nbsp\;&nbsp\;Ein interaktiver Nachmittag für Kinder und ihre Eltern. Freuen Sie sich auf einen lebenden Dinosaurier (er blinzelt\, bewegt sich und macht Geräusche) sowie einen Animateur im Kostüm\, der Ihnen die Welt der Dinosaurier näherbringt. Es gibt einen Bastelworkshop und weitere Gewinnspiele.Die Teilnehmerzahl ist begrenzt.Tickets sind im Vorverkauf bei SMSticket erhältlich.Eintritt 150 CZK/Person
LOCATION:Chudenice
END:VEVENT
END:VCALENDAR