BEGIN:VCALENDAR
VERSION:2.0
CALSCALE:GREGORIAN
PRODID:-//MyApp//Calendar 1.0//EN
BEGIN:VEVENT
METHOD:PUBLISH
UID:64722@regionalniportaly.cz
DTSTAMP:20260421T114329Z
DTSTART;VALUE=DATE:20260502
DTEND;VALUE=DATE:20260503
SUMMARY:Přivítejme jaro se včelkami
DESCRIPTION:
LOCATION:Dobřany
END:VEVENT
END:VCALENDAR